Workbook

Sheet Classificações - Demonstrações
E1: 464110100GANHOS COM DESINCORPORACAO DE PASSIVOSSEM INFORMACAO | F1: Outras Receitas: Venda de Ativos Não Circulantes/Baixa de Passivos | G1: 6.1.5.2 Outras Receitas por Incorporação e Desincorporação
A5: Concatenar | B5: Demonstrações - sintética | C5: Demonstrações - analítica
A6: 111110100'= CAIXA015011320800000000000191 | B6: Disponível | C6: 1.1.1.1 Ativo Circulante - Disponível: Caixa
A7: 111110100'= CAIXA105000026600000000000191 | B7: Disponível | C7: 1.1.1.1 Ativo Circulante - Disponível: Caixa
A8: 111122001'= LIMITE DE SAQUE COM VINCULACAO DE PGTO - OFSS0100000000130 | B8: Disponível | C8: 1.1.1.2 Ativo Circulante - Disponível: Conta Única Vinculação de Pagto
A9: 111122001'= LIMITE DE SAQUE COM VINCULACAO DE PGTO - OFSS0100000000307 | B9: Disponível | C9: 1.1.1.2 Ativo Circulante - Disponível: Conta Única Vinculação de Pagto
A10: 111122001'= LIMITE DE SAQUE COM VINCULACAO DE PGTO - OFSS0100000000308 | B10: Disponível | C10: 1.1.1.2 Ativo Circulante - Disponível: Conta Única Vinculação de Pagto
A11: 111122001'= LIMITE DE SAQUE COM VINCULACAO DE PGTO - OFSS0100000000310 | B11: Disponível | C11: 1.1.1.2 Ativo Circulante - Disponível: Conta Única Vinculação de Pagto
A12: 111122001'= LIMITE DE SAQUE COM VINCULACAO DE PGTO - OFSS0100000000340 | B12: Disponível | C12: 1.1.1.2 Ativo Circulante - Disponível: Conta Única Vinculação de Pagto
A13: 111122001'= LIMITE DE SAQUE COM VINCULACAO DE PGTO - OFSS0100000000400 | B13: Disponível | C13: 1.1.1.2 Ativo Circulante - Disponível: Conta Única Vinculação de Pagto
A14: 111122001'= LIMITE DE SAQUE COM VINCULACAO DE PGTO - OFSS0100000000510 | B14: Disponível | C14: 1.1.1.2 Ativo Circulante - Disponível: Conta Única Vinculação de Pagto
A15: 111122001'= LIMITE DE SAQUE COM VINCULACAO DE PGTO - OFSS0144000000400 | B15: Disponível | C15: 1.1.1.2 Ativo Circulante - Disponível: Conta Única Vinculação de Pagto
A16: 111122001'= LIMITE DE SAQUE COM VINCULACAO DE PGTO - OFSS0150113208400 | B16: Disponível | C16: 1.1.1.2 Ativo Circulante - Disponível: Conta Única Vinculação de Pagto
... A845: 211410600'= FGTSPDENC0002 | B845: Obrigações Trabalhistas e Sociais | C845: 2.1.1.3.3 Obrigações Trabalhistas - FGTS S/ Férias
A846: 211410600'= FGTSPDENC0005 | B846: Obrigações Trabalhistas e Sociais
A847: 211411200'= ENCARGOS SOCIAIS - CONVENIO DE ARRECAD DIRETA0100000000 | B847: Obrigações Trabalhistas e Sociais | C847: 2.1.1.1.2 Obrigações Trabalhistas - INSS S/ FOPAG
A848: 211411200'= ENCARGOS SOCIAIS - CONVENIO DE ARRECAD DIRETA0188000000 | B848: Obrigações Trabalhistas e Sociais | C848: 2.1.1.1.2 Obrigações Trabalhistas - INSS S/ FOPAG
A849: 211411200'= ENCARGOS SOCIAIS - CONVENIO DE ARRECAD DIRETA1000000000 | B849: Obrigações Trabalhistas e Sociais | C849: 2.1.1.1.2 Obrigações Trabalhistas - INSS S/ FOPAG
A850: 211411200'= ENCARGOS SOCIAIS - CONVENIO DE ARRECAD DIRETASEM INFORMACAO | B850: Obrigações Trabalhistas e Sociais | C850: 2.1.1.1.2 Obrigações Trabalhistas - INSS S/ FOPAG
A851: 211420101'= INSS - CONTRIB SOBRE SALARIOS E REMUNERACOES1000000000 | B851: Obrigações Trabalhistas e Sociais | C851: 2.1.1.1.2 Obrigações Trabalhistas - INSS S/ FOPAG
A852: 211420101'= INSS - CONTRIB SOBRE SALARIOS E REMUNERACOESSEM INFORMACAO | B852: Obrigações Trabalhistas e Sociais | C852: 2.1.1.1.2 Obrigações Trabalhistas - INSS S/ FOPAG
A853: 211420101'= INSS-CONTRIB.S/SALARIOS E REMUNERACOES -INTRA0100000000 | B853: Obrigações Trabalhistas e Sociais | C853: 2.1.1.1.2 Obrigações Trabalhistas - INSS S/ FOPAG
A854: 211420101'= INSS-CONTRIB.S/SALARIOS E REMUNERACOES -INTRA1000000000 | B854: Obrigações Trabalhistas e Sociais | C854: 2.1.1.1.2 Obrigações Trabalhistas - INSS S/ FOPAG
A855: 211420101'= INSS-CONTRIB.S/SALARIOS E REMUNERACOES -INTRASEM INFORMACAO | B855: Obrigações Trabalhistas e Sociais | C855: 2.1.1.3.5 Obrigações Trabalhistas - INSS S/ Férias e 13º Salário
A856: 213110100'= FORNECEDORES NACIONAIS010000000002768278000139 | B856: Fornecedores | C856: 2.1.3.1 Fornecedores - Fornecedores Nacionais
A857: 213110100'= FORNECEDORES NACIONAIS010000000059704510000192 | B857: Fornecedores | C857: 2.1.3.1 Fornecedores - Fornecedores Nacionais
A858: 213110100'= FORNECEDORES NACIONAIS010000000069113322000143 | B858: Fornecedores | C858: 2.1.3.1 Fornecedores - Fornecedores Nacionais
... A4241: 218910200'= DIARIAS A PAGAR105000026610125054726 | B4241: Outras Obrigações | C4241: 2.1.5.11 Outras Obrigações - Diárias a Pagar
A4242: 218910200'= DIARIAS A PAGAR105000026610238278751 | B4242: Outras Obrigações | C4242: 2.1.5.11 Outras Obrigações - Diárias a Pagar | D4242: x
A4243: 218910200'= DIARIAS A PAGAR105000026610247161713 | B4243: Outras Obrigações | C4243: 2.1.5.11 Outras Obrigações - Diárias a Pagar
A4244: 218910200'= DIARIAS A PAGAR105000026610486031721 | B4244: Outras Obrigações | C4244: 2.1.5.11 Outras Obrigações - Diárias a Pagar
A4245: 218910200'= DIARIAS A PAGAR105000026610505533731 | B4245: Outras Obrigações | C4245: 2.1.5.11 Outras Obrigações - Diárias a Pagar
A4246: 218910200'= DIARIAS A PAGAR105000026610601806778 | B4246: Outras Obrigações | C4246: 2.1.5.11 Outras Obrigações - Diárias a Pagar
A4247: 218910200'= DIARIAS A PAGAR105000026610613752775 | B4247: Outras Obrigações | C4247: 2.1.5.11 Outras Obrigações - Diárias a Pagar
A4248: 218910200'= DIARIAS A PAGAR105000026610678049785 | B4248: Outras Obrigações | C4248: 2.1.5.11 Outras Obrigações - Diárias a Pagar
A4249: 218910200'= DIARIAS A PAGAR105000026610748275703 | B4249: Outras Obrigações | C4249: 2.1.5.11 Outras Obrigações - Diárias a Pagar
A4250: 218910200'= DIARIAS A PAGAR105000026610761818723 | B4250: Outras Obrigações | C4250: 2.1.5.11 Outras Obrigações - Diárias a Pagar
A4251: 218910200'= DIARIAS A PAGAR105000026610930568788 | B4251: Outras Obrigações | C4251: 2.1.5.11 Outras Obrigações - Diárias a Pagar
A4252: 218910200'= DIARIAS A PAGAR105000026610946153744 | B4252: Outras Obrigações | C4252: 2.1.5.11 Outras Obrigações - Diárias a Pagar
A4253: 218910200'= DIARIAS A PAGAR105000026610980620783 | B4253: Outras Obrigações | C4253: 2.1.5.11 Outras Obrigações - Diárias a Pagar
...

Sheet Balancete do Período
C2: Multiplicar Despesas por: | D2: -1 | G2: F Ó R M U L A S
B4: Descrição da Conta | C4: Conta Corrente | D4: mar/25 | E4: mar/24 | F4: dez/24 | G4: CONCATENAR | H4: Demonstrações - sintética | I4: Demonstrações - analítica
A5: 111110100 | B5: '= CAIXA | C5: 105000026600000000000191 | D5: 49155.36 | G5: =CONCATENATE(A5,B5,C5) -> 111110100'= CAIXA105000026600000000000191 | H5: =VLOOKUP(Tabela1[[#This Row],[CONCATENAR]],'Classificações - Demonstrações'!$A$5:$C$46003,2,) -> Disponível
A6: 111122001 | B6: '= LIMITE DE SAQUE COM VINCULACAO DE PGTO - OFSS | C6: 1000000000130 | D6: 61657.41 | G6: =CONCATENATE(A6,B6,C6) -> 111122001'= LIMITE DE SAQUE COM VINCULACAO DE PGTO - OFSS1000000000130 | H6: =VLOOKUP(Tabela1[[#This Row],[CONCATENAR]],'Classificações - Demonstrações'!$A$5:$C$46003,2,) -> Disponível
A7: 111122001 | B7: '= LIMITE DE SAQUE COM VINCULACAO DE PGTO - OFSS | C7: 1000000000307 | D7: 682762.4 | G7: =CONCATENATE(A7,B7,C7) -> 111122001'= LIMITE DE SAQUE COM VINCULACAO DE PGTO - OFSS1000000000307 | H7: =VLOOKUP(Tabela1[[#This Row],[CONCATENAR]],'Classificações - Demonstrações'!$A$5:$C$46003,2,) -> Disponível
A8: 111122001 | B8: '= LIMITE DE SAQUE COM VINCULACAO DE PGTO - OFSS | C8: 1000000000308 | D8: 351541.26 | G8: =CONCATENATE(A8,B8,C8) -> 111122001'= LIMITE DE SAQUE COM VINCULACAO DE PGTO - OFSS1000000000308 | H8: =VLOOKUP(Tabela1[[#This Row],[CONCATENAR]],'Classificações - Demonstrações'!$A$5:$C$46003,2,) -> Disponível
A9: 111122001 | B9: '= LIMITE DE SAQUE COM VINCULACAO DE PGTO - OFSS | C9: 1000000000309 | D9: 57950.39 | G9: =CONCATENATE(A9,B9,C9) -> 111122001'= LIMITE DE SAQUE COM VINCULACAO DE PGTO - OFSS1000000000309 | H9: =VLOOKUP(Tabela1[[#This Row],[CONCATENAR]],'Classificações - Demonstrações'!$A$5:$C$46003,2,) -> Disponível
A10: 111122001 | B10: '= LIMITE DE SAQUE COM VINCULACAO DE PGTO - OFSS | C10: 1000000000310 | D10: 752982.82 | G10: =CONCATENATE(A10,B10,C10) -> 111122001'= LIMITE DE SAQUE COM VINCULACAO DE PGTO - OFSS1000000000310 | H10: =VLOOKUP(Tabela1[[#This Row],[CONCATENAR]],'Classificações - Demonstrações'!$A$5:$C$46003,2,) -> Disponível
A11: 111122001 | B11: '= LIMITE DE SAQUE COM VINCULACAO DE PGTO - OFSS | C11: 1000000000340 | D11: 25257.18 | G11: =CONCATENATE(A11,B11,C11) -> 111122001'= LIMITE DE SAQUE COM VINCULACAO DE PGTO - OFSS1000000000340 | H11: =VLOOKUP(Tabela1[[#This Row],[CONCATENAR]],'Classificações - Demonstrações'!$A$5:$C$46003,2,) -> Disponível
A12: 111122001 | B12: '= LIMITE DE SAQUE COM VINCULACAO DE PGTO - OFSS | C12: 1000000000400 | D12: 15977.53 | G12: =CONCATENATE(A12,B12,C12) -> 111122001'= LIMITE DE SAQUE COM VINCULACAO DE PGTO - OFSS1000000000400 | H12: =VLOOKUP(Tabela1[[#This Row],[CONCATENAR]],'Classificações - Demonstrações'!$A$5:$C$46003,2,) -> Disponível
A13: 111122001 | B13: '= LIMITE DE SAQUE COM VINCULACAO DE PGTO - OFSS | C13: 1000000000510 | D13: 2731047.8 | G13: =CONCATENATE(A13,B13,C13) -> 111122001'= LIMITE DE SAQUE COM VINCULACAO DE PGTO - OFSS1000000000510 | H13: =VLOOKUP(Tabela1[[#This Row],[CONCATENAR]],'Classificações - Demonstrações'!$A$5:$C$46003,2,) -> Disponível
A14: 111122001 | B14: '= LIMITE DE SAQUE COM VINCULACAO DE PGTO - OFSS | C14: 1050000266400 | D14: 27543276 | G14: =CONCATENATE(A14,B14,C14) -> 111122001'= LIMITE DE SAQUE COM VINCULACAO DE PGTO - OFSS1050000266400 | H14: =VLOOKUP(Tabela1[[#This Row],[CONCATENAR]],'Classificações - Demonstrações'!$A$5:$C$46003,2,) -> Disponível
A15: 111122001 | B15: '= LIMITE DE SAQUE COM VINCULACAO DE PGTO - OFSS | C15: 1050000266500 | D15: 0 | G15: =CONCATENATE(A15,B15,C15) -> 111122001'= LIMITE DE SAQUE COM VINCULACAO DE PGTO - OFSS1050000266500 | H15: =VLOOKUP(Tabela1[[#This Row],[CONCATENAR]],'Classificações - Demonstrações'!$A$5:$C$46003,2,) -> Disponível
A16: 111122001 | B16: '= LIMITE DE SAQUE COM VINCULACAO DE PGTO - OFSS | C16: 1491000000990 | D16: 0 | G16: =CONCATENATE(A16,B16,C16) -> 111122001'= LIMITE DE SAQUE COM VINCULACAO DE PGTO - OFSS1491000000990 | H16: =VLOOKUP(Tabela1[[#This Row],[CONCATENAR]],'Classificações - Demonstrações'!$A$5:$C$46003,2,) -> Disponível
... A403: 113211400 | B403: '= PIS/PASEP A RECUPERAR/COMPENSAR | C403: 1050000266 | D403: 720933.35 | G403: =CONCATENATE(A403,B403,C403) -> 113211400'= PIS/PASEP A RECUPERAR/COMPENSAR1050000266 | H403: =VLOOKUP(Tabela1[[#This Row],[CONCATENAR]],'Classificações - Demonstrações'!$A$5:$C$46003,2,) -> Impostos a Recuperar
A404: 113812600 | B404: CRED A REC POR CESSAO DE CREDITOS PELA UNIAO | C404: SEM INFORMACAO | D404: 24384327 | G404: =CONCATENATE(A404,B404,C404) -> 113812600CRED A REC POR CESSAO DE CREDITOS PELA UNIAOSEM INFORMACAO | H404: =VLOOKUP(Tabela1[[#This Row],[CONCATENAR]],'Classificações - Demonstrações'!$A$5:$C$46003,2,) -> Contas a Receber
A405: 115210100 | B405: '= PRODUTOS ACABADOS | C405: IC2022003 | D405: 0 | G405: =CONCATENATE(A405,B405,C405) -> 115210100'= PRODUTOS ACABADOSIC2022003 | H405: =VLOOKUP(Tabela1[[#This Row],[CONCATENAR]],'Classificações - Demonstrações'!$A$5:$C$46003,2,) -> Estoque
A406: 115210100 | B406: '= PRODUTOS ACABADOS | C406: IC2022004 | D406: 0 | G406: =CONCATENATE(A406,B406,C406) -> 115210100'= PRODUTOS ACABADOSIC2022004 | H406: =VLOOKUP(Tabela1[[#This Row],[CONCATENAR]],'Classificações - Demonstrações'!$A$5:$C$46003,2,) -> Estoque
A407: 115210100 | B407: '= PRODUTOS ACABADOS | C407: IC2022006 | D407: 0 | G407: =CONCATENATE(A407,B407,C407) -> 115210100'= PRODUTOS ACABADOSIC2022006 | H407: =VLOOKUP(Tabela1[[#This Row],[CONCATENAR]],'Classificações - Demonstrações'!$A$5:$C$46003,2,) -> Estoque
A408: 115210100 | B408: '= PRODUTOS ACABADOS | C408: IC2022010 | D408: 0 | G408: =CONCATENATE(A408,B408,C408) -> 115210100'= PRODUTOS ACABADOSIC2022010 | H408: =VLOOKUP(Tabela1[[#This Row],[CONCATENAR]],'Classificações - Demonstrações'!$A$5:$C$46003,2,) -> Estoque
A409: 115210100 | B409: '= PRODUTOS ACABADOS | C409: IC2022011 | D409: 0 | G409: =CONCATENATE(A409,B409,C409) -> 115210100'= PRODUTOS ACABADOSIC2022011 | H409: =VLOOKUP(Tabela1[[#This Row],[CONCATENAR]],'Classificações - Demonstrações'!$A$5:$C$46003,2,) -> Estoque
A410: 115210100 | B410: '= PRODUTOS ACABADOS | C410: IC2022012 | D410: 0 | G410: =CONCATENATE(A410,B410,C410) -> 115210100'= PRODUTOS ACABADOSIC2022012 | H410: =VLOOKUP(Tabela1[[#This Row],[CONCATENAR]],'Classificações - Demonstrações'!$A$5:$C$46003,2,) -> Estoque
A411: 115210100 | B411: '= PRODUTOS ACABADOS | C411: IC2023004 | D411: 0 | G411: =CONCATENATE(A411,B411,C411) -> 115210100'= PRODUTOS ACABADOSIC2023004 | H411: =VLOOKUP(Tabela1[[#This Row],[CONCATENAR]],'Classificações - Demonstrações'!$A$5:$C$46003,2,) -> Estoque
A412: 115210100 | B412: '= PRODUTOS ACABADOS | C412: IC2023005 | D412: 0 | G412: =CONCATENATE(A412,B412,C412) -> 115210100'= PRODUTOS ACABADOSIC2023005 | H412: =VLOOKUP(Tabela1[[#This Row],[CONCATENAR]],'Classificações - Demonstrações'!$A$5:$C$46003,2,) -> Estoque
A413: 115210100 | B413: '= PRODUTOS ACABADOS | C413: IC2023014 | D413: 0 | G413: =CONCATENATE(A413,B413,C413) -> 115210100'= PRODUTOS ACABADOSIC2023014 | H413: =VLOOKUP(Tabela1[[#This Row],[CONCATENAR]],'Classificações - Demonstrações'!$A$5:$C$46003,2,) -> Estoque
A414: 115210100 | B414: '= PRODUTOS ACABADOS | C414: IC2023016 | D414: 0 | G414: =CONCATENATE(A414,B414,C414) -> 115210100'= PRODUTOS ACABADOSIC2023016 | H414: =VLOOKUP(Tabela1[[#This Row],[CONCATENAR]],'Classificações - Demonstrações'!$A$5:$C$46003,2,) -> Estoque
A415: 115310100 | B415: '= PRODUTOS EM ELABORACAO | C415: IC2022001 | D415: 23252713 | G415: =CONCATENATE(A415,B415,C415) -> 115310100'= PRODUTOS EM ELABORACAOIC2022001 | H415: =VLOOKUP(Tabela1[[#This Row],[CONCATENAR]],'Classificações - Demonstrações'!$A$5:$C$46003,2,) -> Estoque
A416: 115310100 | B416: '= PRODUTOS EM ELABORACAO | C416: IC2022002 | D416: 54870.34 | G416: =CONCATENATE(A416,B416,C416) -> 115310100'= PRODUTOS EM ELABORACAOIC2022002 | H416: =VLOOKUP(Tabela1[[#This Row],[CONCATENAR]],'Classificações - Demonstrações'!$A$5:$C$46003,2,) -> Estoque
... A1568: 234120000 | B1568: '= AJUSTES DE AVALIACAO PATRIMONIAL DE ATIVOS | C1568: 999 | D1568: 1.5986396e+08 | G1568: =CONCATENATE(A1568,B1568,C1568) -> 234120000'= AJUSTES DE AVALIACAO PATRIMONIAL DE ATIVOS999 | H1568: =VLOOKUP(Tabela1[[#This Row],[CONCATENAR]],'Classificações - Demonstrações'!$A$5:$C$46003,2,) -> Ajuste de avaliação patrimonial
A1569: 236120100 | B1569: '= REAVALIACAO DE BENS IMOVEIS | C1569: 123210298 | D1569: =14299996.27-102606.77 -> 14197390 | G1569: =CONCATENATE(A1569,B1569,C1569) -> 236120100'= REAVALIACAO DE BENS IMOVEIS123210298 | H1569: =VLOOKUP(Tabela1[[#This Row],[CONCATENAR]],'Classificações - Demonstrações'!$A$5:$C$46003,2,) -> Reserva de reavaliação
A1570: 237220200 | B1570: LUCROS E PREJUIZOS ACUMULADOS DE EXERC ANTERI | C1570: SEM INFORMACAO | D1570: =-189351073.92+102606.77 -> -1.8924847e+08 | G1570: =CONCATENATE(A1570,B1570,C1570) -> 237220200LUCROS E PREJUIZOS ACUMULADOS DE EXERC ANTERISEM INFORMACAO | H1570: =VLOOKUP(Tabela1[[#This Row],[CONCATENAR]],'Classificações - Demonstrações'!$A$5:$C$46003,2,) -> Prejuízos Acumulados
A1571: 237220300 | B1571: AJUSTES DE EXERCICIOS ANTERIORES | C1571: SEM INFORMACAO | D1571: 2.0907156e+08 | G1571: =CONCATENATE(A1571,B1571,C1571) -> 237220300AJUSTES DE EXERCICIOS ANTERIORESSEM INFORMACAO | H1571: =VLOOKUP(Tabela1[[#This Row],[CONCATENAR]],'Classificações - Demonstrações'!$A$5:$C$46003,2,) -> Prejuízos Acumulados
A1572: 311110100 | B1572: VENCIMENTOS E SALARIOS | C1572: SEM INFORMACAO | D1572: 0 | G1572: =CONCATENATE(A1572,B1572,C1572) -> 311110100VENCIMENTOS E SALARIOSSEM INFORMACAO | H1572: =VLOOKUP(Tabela1[[#This Row],[CONCATENAR]],'Classificações - Demonstrações'!$A$5:$C$46003,2,) -> Despesas Administrativas - Pessoal
A1573: 311210100 | B1573: VENCIMENTOS E SALARIOS | C1573: SEM INFORMACAO | D1573: -19417381 | G1573: =CONCATENATE(A1573,B1573,C1573) -> 311210100VENCIMENTOS E SALARIOSSEM INFORMACAO | H1573: =VLOOKUP(Tabela1[[#This Row],[CONCATENAR]],'Classificações - Demonstrações'!$A$5:$C$46003,2,) -> Despesas Administrativas - Pessoal
A1574: 311210300 | B1574: ADICIONAIS | C1574: SEM INFORMACAO | D1574: -2696747.6 | G1574: =CONCATENATE(A1574,B1574,C1574) -> 311210300ADICIONAISSEM INFORMACAO | H1574: =VLOOKUP(Tabela1[[#This Row],[CONCATENAR]],'Classificações - Demonstrações'!$A$5:$C$46003,2,) -> Despesas Administrativas - Pessoal
A1575: 311210400 | B1575: GRATIFICACOES | C1575: SEM INFORMACAO | D1575: -9789390.8 | G1575: =CONCATENATE(A1575,B1575,C1575) -> 311210400GRATIFICACOESSEM INFORMACAO | H1575: =VLOOKUP(Tabela1[[#This Row],[CONCATENAR]],'Classificações - Demonstrações'!$A$5:$C$46003,2,) -> Despesas Administrativas - Pessoal
A1576: 311210500 | B1576: FERIAS - RGPS | C1576: SEM INFORMACAO | D1576: -1622200.3 | G1576: =CONCATENATE(A1576,B1576,C1576) -> 311210500FERIAS - RGPSSEM INFORMACAO | H1576: =VLOOKUP(Tabela1[[#This Row],[CONCATENAR]],'Classificações - Demonstrações'!$A$5:$C$46003,2,) -> Despesas Administrativas - Pessoal
A1577: 311210600 | B1577: 13. SALARIO - RGPS | C1577: SEM INFORMACAO | D1577: -4138259.7 | G1577: =CONCATENATE(A1577,B1577,C1577) -> 31121060013. SALARIO - RGPSSEM INFORMACAO | H1577: =VLOOKUP(Tabela1[[#This Row],[CONCATENAR]],'Classificações - Demonstrações'!$A$5:$C$46003,2,) -> Despesas Administrativas - Pessoal
A1578: 312220100 | B1578: CONTRIBUICOES PREVIDENCIARIAS - INSS | C1578: SEM INFORMACAO | D1578: -6821037.3 | G1578: =CONCATENATE(A1578,B1578,C1578) -> 312220100CONTRIBUICOES PREVIDENCIARIAS - INSSSEM INFORMACAO | H1578: =VLOOKUP(Tabela1[[#This Row],[CONCATENAR]],'Classificações - Demonstrações'!$A$5:$C$46003,2,) -> Despesas Administrativas - Encargos
A1579: 312310100 | B1579: FGTS | C1579: SEM INFORMACAO | D1579: -1663939.6 | G1579: =CONCATENATE(A1579,B1579,C1579) -> 312310100FGTSSEM INFORMACAO | H1579: =VLOOKUP(Tabela1[[#This Row],[CONCATENAR]],'Classificações - Demonstrações'!$A$5:$C$46003,2,) -> Despesas Administrativas - Encargos
...

Sheet DRE(9)
B3: NUCLEBRÁS EQUIPAMENTOS PESADOS S.A. - NUCLEP
B4: =#REF! -> #REF!
B6: DEMONSTRAÇÃO DO RESULTADO DO EXERCÍCIO
L10: Posição em Milhares de Reais
H11: =#REF! -> #REF! | I11: =H11 -> #REF! | J11: AV% | K11: 45382 | L11: =K11 -> 45382 | M11: AV% | N11: AH%
H12: Em reais | I12: (A) | J12: AV % | K12: Em reais | L12: (B) | M12: AV % | N12: (A)/(B)
B14: RECEITA OPERACIONAL BRUTA | H14: =SUM(H15:H17) -> #REF! | I14: =SUM(I15:I17) -> #REF! | J14: =J15+J16 -> #REF! | K14: =SUM(K15:K17) -> 98215534 | L14: =SUM(L15:L17) -> 98215 | M14: =M15+M16 -> 100 | N14: =IF(K14=0,0,((H14/K14)-1)*100) -> #REF!
D15: Receitas industriais | H15: =SUMIF(Tabela1[Demonstrações - sintética],D15,Tabela1[mar/25]) -> 12851914 | I15: =ROUND((H15/1000),0) -> 12852 | J15: =(I15/$I$14)*100 -> #REF! | K15: 6451267.4 | L15: =ROUND((K15/1000),0) -> 6451 | M15: =(L15/$L$14)*100 -> 6.5682431 | N15: =IF(K15=0,0,((H15/K15)-1)*100) -> 99.215329
D16: Recursos orçamentários do Tesouro Nacional | H16: =SUMIF(Tabela1[Demonstrações - sintética],D16,Tabela1[mar/25])+#REF! -> #REF! | I16: =ROUND((H16/1000),0) -> #REF! | J16: =(I16/$I$14)*100 -> #REF! | K16: 91764266 | L16: =ROUND((K16/1000),0) -> 91764 | M16: =(L16/$L$14)*100 -> 93.431757 | N16: =IF(K16=0,0,((H16/K16)-1)*100) -> #REF!
B18: (-) DEDUÇÕES SOBRE VENDAS | H18: =H19 -> -345732.38 | I18: =I19 -> -346 | J18: =J19 -> #REF! | K18: =K19 -> -44576.62 | L18: =L19 -> -45 | M18: =M19 -> -0.045817849 | N18: =IF(K18=0,0,((H18/K18)-1)*100) -> 675.59129
D19: (-) Impostos sobre vendas de produtos e serviços | H19: =SUMIF(Tabela1[Demonstrações - sintética],D19,Tabela1[mar/25]) -> -345732.38 | I19: =ROUND((H19/1000),0) -> -346 | J19: =(I19/$I$14)*100 -> #REF! | K19: -44576.62 | L19: =ROUND((K19/1000),0) -> -45 | M19: =(L19/$L$14)*100 -> -0.045817849 | N19: =IF(K19=0,0,((H19/K19)-1)*100) -> 675.59129
B21: RECEITA OPERACIONAL LÍQUIDA | F21: =#REF!+1 -> #REF! | H21: =H14+H19 -> #REF! | I21: =I14+I18 -> #REF! | J21: =(I21/$I$14)*100 -> #REF! | K21: =K14+K18 -> 98170957 | L21: =L14+L18 -> 98170 | M21: =(L21/$L$14)*100 -> 99.954182 | N21: =IF(K21=0,0,((H21/K21)-1)*100) -> #REF! | Q21: É ELIMINADO NO PRÓXIMO TRIMESTRE]
D22: (-) Custos dos Produtos Vendidos - CPV | F22: =F21+1 -> #REF! | H22: =SUMIF(Tabela1[Demonstrações - sintética],D22,Tabela1[mar/25])+P22 -> -8696245.1 | I22: =ROUND((H22/1000),0) -> -8696 | J22: =(I22/$I$14)*100 -> #REF! | K22: -6016667.1 | L22: =ROUND((K22/1000),0) -> -6017 | M22: =(L22/$L$14)*100 -> -6.1263554 | N22: =IF(K22=0,0,((H22/K22)-1)*100) -> 44.535918 | P22: 20660799 | Q22: CMV DE DEZEMBRO 2024 - AJUSTE REALIZADO EM CONTA DE RESULTADO EM JANEIRO DE 2025
B24: LUCRO BRUTO | H24: =SUM(H21:H23) -> #REF! | I24: =SUM(I21:I23) -> #REF! | J24: =(I24/$I$14)*100 -> #REF! | K24: =SUM(K21:K23) -> 92154290 | L24: =SUM(L21:L23) -> 92153 | M24: =(L24/$L$14)*100 -> 93.827827 | N24: =IF(K24=0,0,((H24/K24)-1)*100) -> #REF!
B26: (-) DESPESAS OPERACIONAIS | H26: =H27+H42+H44 -> #REF! | I26: =I27+I42 -> #REF! | J26: =+J27+J42+J50 -> #REF! | K26: =K27+K42+K44 -> -95148656 | L26: =L27+L42 -> -95147 | M26: =+M27+M42+M50 -> -97.290638 | N26: =IF(K26=0,0,((H26/K26)-1)*100) -> #REF!
C27: (-) Despesas operacionais administrativas e comerciais | F27: =F22+1 -> #REF! | H27: =SUM(H28:H40)-H33 -> #REF! | I27: =SUM(I28:I40)-I33 -> #REF! | J27: =(I27/$I$14)*100 -> #REF! | K27: =SUM(K28:K40)-K33 -> -94490776 | L27: =SUM(L28:L40)-L33 -> -94489 | M27: =(L27/$L$14)*100 -> -96.206282 | N27: =IF(K27=0,0,((H27/K27)-1)*100) -> #REF!
E28: Despesas administrativas - pessoal | H28: =SUMIF(Tabela1[Demonstrações - sintética],E28,Tabela1[mar/25]) -> -38234144 | I28: =ROUND((H28/1000),0) -> -38234 | K28: -40029588 | L28: =ROUND((K28/1000),0)+1 -> -40029
E29: Despesas administrativas - encargos | H29: =SUMIF(Tabela1[Demonstrações - sintética],E29,Tabela1[mar/25]) -> -9309488.8 | I29: =ROUND((H29/1000),0) -> -9309 | K29: -19703031 | L29: =ROUND((K29/1000),0) -> -19703
E30: Despesas administrativas - indenizações e encargos | H30: =SUMIF(Tabela1[Demonstrações - sintética],E30,Tabela1[mar/25]) -> -258721.21 | I30: =ROUND((H30/1000),0) -> -259 | K30: -42709.17 | L30: =ROUND((K30/1000),0) -> -43
E31: Despesas administrativas - previdência privada | H31: =SUMIF(Tabela1[Demonstrações - sintética],E31,Tabela1[mar/25]) -> -9755661.6 | I31: =ROUND((H31/1000),0) -> -9756 | K31: -8653122.6 | L31: =ROUND((K31/1000),0) -> -8653
C32: * | E32: Despesas administrativas - serviços e materiais | H32: =SUMIF(Tabela1[Demonstrações - sintética],E32,Tabela1[mar/25]) -> -27777337 | I32: =ROUND((H32/1000),0) -> -27777 | K32: -28868764 | L32: =ROUND((K32/1000),0) -> -28869
C33: * | E33: Despesas administrativas - PCLD | H33: =SUMIF(Tabela1[Demonstrações - sintética],E33,Tabela1[mar/25]) -> 0 | I33: =ROUND((H33/1000),0) -> 0 | K33: 0 | L33: =ROUND((K33/1000),0) -> 0
E34: Despesas administrativas - depreciação | H34: =SUMIF(Tabela1[Demonstrações - sintética],E34,Tabela1[mar/25]) -> -1434694.1 | I34: =ROUND((H34/1000),0) -> -1435 | K34: -1629268.5 | L34: =ROUND((K34/1000),0) -> -1629
E35: Despesas administrativas - amortização | H35: =SUMIF(Tabela1[Demonstrações - sintética],E35,Tabela1[mar/25]) -> -7115.6 | I35: =ROUND((H35/1000),0) -> -7 | K35: -10673.4 | L35: =ROUND((K35/1000),0) -> -11
E36: Despesas administrativas - impaiment | H36: =SUMIF(Tabela1[Demonstrações - sintética],E36,Tabela1[mar/25]) -> 0 | I36: =ROUND((H36/1000),0) -> 0 | K36: 0 | L36: =ROUND((K36/1000),0) -> 0
E37: Despesas administrativas - provisões cíveis | H37: =SUMIF(Tabela1[Demonstrações - sintética],E37,Tabela1[mar/25]) -> -1000 | I37: =ROUND((H37/1000),0) -> -1 | K37: 0 | L37: =ROUND((K37/1000),0) -> 0
E38: Despesas administrativas - provisões trabalhistas | H38: =SUMIF(Tabela1[Demonstrações - sintética],E38,Tabela1[mar/25]) -> -1095635.9 | I38: =ROUND((H38/1000),0) -> -1096 | K38: -290370.3 | L38: =ROUND((K38/1000),0) -> -290
C39: * | E39: Despesas administrativas - demais despesas | H39: =SUMIF(Tabela1[Demonstrações - sintética],E39,Tabela1[mar/25]) -> -1.4374145e+08 | I39: =ROUND((H39/1000),0) -> -143741 | K39: -18468624 | L39: =ROUND((K39/1000),0) -> -18469 | Q39: É ELIMINADO NO PRÓXIMO TRIMESTRE]
C40: * | E40: (-) Despesas administrativas - demais (reversões) | H40: =SUMIF(Tabela1[Demonstrações - sintética],E40,Tabela1[mar/25])-#REF!-P40 -> #REF! | I40: =ROUND((H40/1000),0) -> #REF! | K40: 23205373 | L40: =ROUND((K40/1000),0)+2 -> 23207 | P40: 20660799 | Q40: ANULAÇÃO DA CMV DE DEZEMBRO 2024 - AJUSTE REALIZADO EM CONTA DE RESULTADO EM JANEIRO DE 2025
C42: (-) Despesas operacionais tributárias | H42: =SUMIF(Tabela1[Demonstrações - sintética],C42,Tabela1[mar/25]) -> -1613787.9 | I42: =ROUND((H42/1000),0) -> -1614 | J42: =(I42/$I$14)*100 -> #REF! | K42: -657879.7 | L42: =ROUND((K42/1000),0) -> -658 | M42: =(L42/$L$14)*100 -> -0.66995876 | N42: =IF(K42=0,0,((H42/K42)-1)*100) -> 145.30138
C44: (-) Outras despesas e receitas operacionais | H44: =SUM(H45:H46) -> 0 | I44: =ROUND((H44/1000),0) -> 0 | J44: =(I44/$I$14)*100 -> #REF! | K44: =SUM(K45:K46) -> 0 | L44: =ROUND((K44/1000),0) -> 0 | M44: =(L44/$L$14)*100 -> 0 | N44: =IF(K44=0,0,((H44/K44)-1)*100) -> 0
E45: Outras receitas: venda de ativos não circulantes/baixa de passivos | H45: =SUMIF(Tabela1[Demonstrações - sintética],E45,Tabela1[mar/25]) -> 0 | I45: =ROUND((H45/1000),0) -> 0 | J45: =(I45/$I$14)*100 -> #REF! | K45: =SUMIF(Tabela1[Demonstrações - sintética],D45,Tabela1[mar/24]) -> 0 | L45: 0 | M45: =(L45/$L$14)*100 -> 0 | N45: =IF(K45=0,0,((H45/K45)-1)*100) -> 0
E46: (-) Outras despesas: baixa de ativos não circulantes | H46: =SUMIF(Tabela1[Demonstrações - sintética],E46,Tabela1[mar/25]) -> 0 | I46: 0 | J46: =(I46/$I$14)*100 -> #REF! | K46: 0 | L46: 0 | M46: =(L46/$L$14)*100 -> 0 | N46: =IF(K46=0,0,((H46/K46)-1)*100) -> 0
B48: RESULTADO ANTES DAS DESPESAS E RECEITAS FINANCEIRAS | H48: =H24+H26 -> #REF! | I48: =I24+I26 -> #REF! | J48: =(I48/$I$14)*100 -> #REF! | K48: =K24+K26 -> -2994366.1 | L48: =L24+L26 -> -2994 | M48: =(L48/$L$14)*100 -> -3.0484142 | N48: =IF(K48=0,0,((H48/K48)-1)*100) -> #REF!
C50: (-) Resultado financeiro | F50: =F27+1 -> #REF! | H50: =SUM(H51:H52) -> 0 | I50: =SUM(I51:I52) -> 0 | J50: =(I50/$I$14)*100 -> #REF! | K50: =SUM(K51:K52) -> -406978.46 | L50: =SUM(L51:L52) -> -407 | M50: =(L50/$L$14)*100 -> -0.41439699 | N50: =IF(K50=0,0,((H50/K50)-1)*100) -> -100
E51: Despesa financeira | H51: =SUMIF(Tabela1[Demonstrações - sintética],E51,Tabela1[mar/25]) -> 0 | I51: =ROUND((H51/1000),0) -> 0 | J51: =(I51/$I$14)*100 -> #REF! | K51: -462032.28 | L51: =ROUND((K51/1000),0) -> -462 | M51: =(L51/$L$14)*100 -> -0.47039658 | N51: =IF(K51=0,0,((H51/K51)-1)*100) -> -100
E52: Receita financeira | H52: =SUMIF(Tabela1[Demonstrações - sintética],E52,Tabela1[mar/25]) -> 0 | I52: =ROUND((H52/1000),0) -> 0 | J52: =(I52/$I$14)*100 -> #REF! | K52: 55053.82 | L52: =ROUND((K52/1000),0) -> 55 | M52: =(L52/$L$14)*100 -> 0.055999593 | N52: =IF(K52=0,0,((H52/K52)-1)*100) -> -100
B54: RESULTADO ANTES DO IR/CSSL | H54: =H48+H50 -> #REF! | I54: =I48+I50 -> #REF! | J54: =(I54/$I$14)*100 -> #REF! | K54: =K48+K50 -> -3401344.6 | L54: =L48+L50 -> -3401 | M54: =(L54/$L$14)*100 -> -3.4628112 | N54: =IF(K54=0,0,((H54/K54)-1)*100) -> #REF!
C56: (-) IR sobre lucro líquido | H56: =SUMIF(Tabela1[Demonstrações - sintética],C56,Tabela1[mar/25]) -> 0 | I56: =ROUND((H56/1000),0) -> 0 | J56: =(I56/$I$14)*100 -> #REF! | K56: =SUMIF(Tabela1[Demonstrações - sintética],C56,Tabela1[mar/24]) -> 0 | L56: =ROUND((K56/1000),0) -> 0 | M56: =(L56/$L$14)*100 -> 0 | N56: =IF(K56=0,0,((H56/K56)-1)*100) -> 0
C57: (-) CS sobre lucro líquido | H57: =SUMIF(Tabela1[Demonstrações - sintética],C57,Tabela1[mar/25]) -> 0 | I57: =ROUND((H57/1000),0) -> 0 | J57: =(I57/$I$14)*100 -> #REF! | K57: =SUMIF(Tabela1[Demonstrações - sintética],C57,Tabela1[mar/24])+P47 -> 0 | L57: =ROUND((K57/1000),0) -> 0 | M57: =(L57/$L$14)*100 -> 0 | N57: =IF(K57=0,0,((H57/K57)-1)*100) -> 0
...

Sheet DMPL (3)
C2: NUCLEBRÁS EQUIPAMENTOS PESADOS S.A. - NUCLEP
C3: =#REF! -> #REF!
C5: DEMONSTRAÇÃO DAS MUTAÇÕES DO PATRIMÔNIO LÍQUIDO
M10: Posição em Milhares de Reais
C11: Março 2024 | D11: Nota | E11: Capital social | F11: Ajuste de exercícios anteriores | G11: Adiantamento para futuro aumento de capital | H11: Reserva de incentivos fiscais | I11: Reserva legal | J11: Reserva de reavaliação | K11: Ajuste de avaliação patrimonial | L11: Prejuízos acumulados | M11: Total
C13: Saldo em 31 de Dezembro de 2023 | E13: 63114 | F13: 0 | G13: 32825 | H13: 0 | I13: 0 | J13: 15737 | K13: 174291 | L13: -185854 | M13: =SUM(E13:L13) -> 100113
C15: Realização reserva de reavaliação | J15: -308 | L15: 308 | M15: =SUM(E15:L15) -> 0
C16: Ajuste de exercícios anteriores | F16: 21019 | M16: =SUM(E16:L16) -> 21019
C17: Adiantamento para futuro aumento de capital | M17: =SUM(E17:L17) -> 0
C18: Baixa e depreciação de ativos incorporados a valor justo | K18: -359 | M18: =SUM(E18:L18) -> -359
C19: Resultado do exercício | L19: -3401 | M19: =SUM(E19:L19) -> -3401
C20: Saldo final em 31 de Março de 2024 | E20: =ROUND(SUM(E13:E19),0) -> 63114 | F20: =ROUND(SUM(F13:F19),0) -> 21019 | G20: =ROUND(SUM(G13:G19),0) -> 32825 | H20: =ROUND(SUM(H13:H19),0) -> 0 | I20: =ROUND(SUM(I13:I19),0) -> 0 | J20: =SUM(J13:J19) -> 15429 | K20: =ROUND(SUM(K13:K19),0) -> 173932 | L20: =SUM(L13:L19) -> -188947 | M20: =SUM(E20:L20) -> 117372
C31: Março 2025 | D31: Nota | E31: Capital social | F31: Ajuste de exercícios anteriores | G31: Adiantamento para futuro aumento de capital | H31: Reserva de incentivos fiscais | I31: Reserva legal | J31: Reserva de reavaliação | K31: Ajuste de avaliação patrimonial | L31: Prejuízos acumulados | M31: Total | P31: Capital social | Q31: Ajuste de exercícios anteriores | R31: Adiantamento para futuro aumento de capital | S31: Reserva de incentivos Fiscais | T31: Reserva Legal | U31: Reserva de reavaliação | V31: Ajuste de avaliação patrimonial | W31: Lucros/Prejuízos Acumulados | X31: Total
C33: Saldo em 31 de Dezembro de 2024 | E33: 63114 | F33: 0 | H33: 18540 | I33: 976 | J33: 14505 | K33: 159864 | L33: 0 | M33: =SUM(E33:L33) -> 256999 | P33: 63113786 | Q33: 0 | R33: 0 | S33: 18539506 | T33: 975763.47 | U33: 14505210 | V33: 1.5986396e+08 | W33: 0 | X33: =SUM(P33:W33) -> 2.5699822e+08
C35: Realização reserva de reavaliação | J35: -308 | L35: 308 | M35: =SUM(E35:L35) -> 0 | U35: -307820.31 | W35: 307820.31 | X35: =SUM(P35:W35) -> 0
C36: Ajuste de exercícios anteriores | M36: =SUM(E36:L36) -> 0 | X36: =SUM(P36:W36) -> 0
C37: Adiantamento para futuro aumento de capital | M37: =SUM(E37:L37) -> 0 | X37: =SUM(P37:W37) -> 0
C38: Resultado do exercício | L38: -403 | M38: =SUM(E38:L38) -> -403 | W38: -403474.78 | X38: =SUM(P38:W38) -> -403474.78
C39: Saldo final em 31 de Março de 2025 | E39: =SUM(E33:E38) -> 63114 | F39: =SUM(F33:F38) -> 0 | G39: =SUM(G33:G38) -> 0 | H39: =SUM(H33:H38) -> 18540 | I39: =SUM(I33:I38) -> 976 | J39: =SUM(J33:J38) -> 14197 | K39: =SUM(K33:K38) -> 159864 | L39: =SUM(L33:L38) -> -95 | M39: =SUM(M33:M38) -> 256596 | P39: =SUM(P33:P38) -> 63113786 | Q39: =SUM(Q33:Q38) -> 0 | R39: =SUM(R33:R38) -> 0 | S39: =SUM(S33:S38) -> 18539506 | T39: =SUM(T33:T38) -> 975763.47 | U39: =SUM(U33:U38) -> 14197390 | V39: =SUM(V33:V38) -> 1.5986396e+08 | W39: =SUM(W33:W38) -> -95654.47 | X39: =SUM(P39:W39) -> 2.5659475e+08
P40: =ROUND(P39/1000-E39,0) -> 0 | Q40: =ROUND(Q39/1000-F39,0) -> 0 | R40: =ROUND(R39/1000-G39,0) -> 0 | S40: =ROUND(S39/1000-H39,0) -> 0 | T40: =ROUND(T39/1000-I39,0) -> 0 | U40: =ROUND(U39/1000-J39,0) -> 0 | V40: =ROUND(V39/1000-K39,0) -> 0 | W40: =ROUND(W39/1000-L39,0) -> -1 | X40: =ROUND(X39/1000-M39,0) -> -1
M41: As notas explicativas são parte integrante das demonstrações financeiras | X41: =X39-#REF! -> #REF!
E60: =#REF! -> #REF! | G60: =#REF! -> #REF! | J60: =#REF! -> #REF! | K60: =#REF! -> #REF! | L60: =#REF! -> #REF! | M60: =SUM(E60:L60) -> #REF!
E62: =E39-E60 -> #REF! | J62: =J39-J60 -> #REF! | K62: =K39-K60 -> #REF! | L62: =L39-L60 -> #REF! | M62: =M39-M60 -> #REF!
J87: =J55-J61 -> 0
D90: =#REF!-#REF! -> #REF!
D91: =SUM(D89:D90) -> #REF!
W301: =W289 -> 0
W430: =W406 -> 0
C446: Os processos individualizados abaixo somam o valor de R$ 10.440 mil, os quais correspondem a 90% (noventa por cento) do total, R$ 11.545 mil. A rubrica Demais Processos, por sua vez, soma o valor de R$ 1.105 mil, representando 10% (dez por cento) do valor total, conforme segue:
D449: 0001260-21.2012.5.01.0461 | N449: =IF(W449=0,0,ROUND(W449/1000,0))+1 -> 9156 | W449: 9155454.8
D450: 0101403-76.2016.5.01.0461 | W450: 491082.02
D451: 0101767-14.2017.5.01.0461 | W451: 413227.86
D452: 0100213-34.2023.5.01.0461 | W452: 157361.2
D453: 0100997-55.2016.5.01.0461 | W453: 123334.53
D454: 0192600-30.2007.5.01.0461 | W454: 100000
W455: 1105094.1
C461: Os processos individualizados abaixo somam o valor de R$ 1.756 mil, os quais correspondem a 79% (setenta e nove por cento) dos R$ 2.226 mil. A rubrica Demais Processos, por sua vez, soma R$ 470 mil representando os 21% (vinte e um por cento), conforme segue:
W467: 2225035.2
A638: 34
A646: 35

Sheet Capa DFs
R311: 0 | T311: 3105835.5
R312: 0 | T312: 0
R313: 0 | T313: 0
T314: 0
R315: 402131.98 | T315: 3980898 | U315: 0
T316: 0
T317: 0
T318: 0
R319: 0 | T319: 133849.81
R320: 577655.86
R321: 548640.68
R322: 0 | T322: 85805.88
U444: 0
C460: Os processos individualizados abaixo somam o valor de R$ 10.440 mil, os quais correspondem a 90% (noventa por cento) do total, R$ 11.545 mil. A rubrica Demais Processos, por sua vez, soma o valor de R$ 1.105 mil, representando 10% (dez por cento) do valor total, conforme segue:
D463: 0001260-21.2012.5.01.0461 | L463: 9156 | U463: 9155454.8
D464: 0101403-76.2016.5.01.0461 | U464: 491082.02
D465: 0101767-14.2017.5.01.0461 | U465: 413227.86
D466: 0100213-34.2023.5.01.0461 | U466: 157361.2
D467: 0100997-55.2016.5.01.0461 | U467: 123334.53
D468: 0192600-30.2007.5.01.0461 | U468: 100000
U469: 1105094.1
C475: Os processos individualizados abaixo somam o valor de R$ 1.756 mil, os quais correspondem a 79% (setenta e nove por cento) dos R$ 2.226 mil. A rubrica Demais Processos, por sua vez, soma R$ 470 mil representando os 21% (vinte e um por cento), conforme segue:
U481: 2225035.2

Sheet 1. BP (mil)
B2: NUCLEBRÁS EQUIPAMENTOS PESADOS S.A. - NUCLEP
B3: DEMONSTRAÇÕES FINANCEIRAS EM 31 DE DEZEMBRO DE 2025
B5: BALANÇO PATRIMONIAL
J7: Posição em Milhares de Reais
H8: 46022 | I8: AV% | J8: 45657 | K8: AV% | L8: AH%
H9: (A) | J9: (C)
B11: ATIVO
B12: ATIVO CIRCULANTE | H12: 307217 | I12: 30.428133 | J12: 268060 | K12: 31.384459 | L12: 14.607551
D14: Disponível | F14: 4 | H14: 78725 | I14: 8.3728177 | J14: 49295 | K14: 5.7714575 | L14: 59.701795
D15: Contas a receber | F15: 5 | H15: 61119 | I15: 6.500327 | J15: 40380 | K15: 4.7276895 | L15: 51.359584
D16: Estoque | F16: 6 | H16: 124681 | I16: 13.26048 | J16: 147728 | K16: 17.295991 | L16: -15.600969
D17: Impostos a recuperar | F17: 7 | H17: 5287 | I17: 0.56230025 | J17: 11530 | K17: 1.3499322 | L17: -54.145707
D18: Outros créditos | F18: 8 | H18: 16287 | I18: 1.7322081 | J18: 19127 | K18: 2.2393887 | L18: -14.84812
D19: Despesas a realizar | F19: 9 | H19: 21118 | I19: 2.2460103 | J19: 0
B21: ATIVO NÃO CIRCULANTE | H21: 633028 | I21: 67.325857 | J21: 586057 | K21: 68.615541 | L21: 8.0147494
C23: REALIZÁVEL A LONGO PRAZO | H23: 363293 | I23: 38.638121 | J23: 317232 | K23: 37.141516 | L23: 14.519658
D24: Contas a receber | F24: 10 | H24: 355785 | I24: 37.839606 | J24: 309528 | K24: 36.239532 | L24: 14.944367
D25: Depósitos recursais | F25: 11 | H25: 4044 | I25: 0.43010067 | J25: 4007 | K25: 0.46913947 | L25: 0.92338408
D26: Caução | F26: 12 | H26: 3464 | I26: 0.36841462 | J26: 3697 | K26: 0.43284468 | L26: -6.3024074
C27: IMOBILIZADO | F27: 13 | H27: 293690 | I27: 31.235476 | J27: 294226 | K27: 34.447974 | L27: -0.18217289
C28: INTANGÍVEL | F28: 14 | H28: 1415 | I28: 0.15049269 | J28: 1459 | K28: 0.17081969 | L28: -3.0157642
C29: (-) SUBVENÇÃO PARA INVESTIMENTOS | F29: 15 | H29: -25370 | I29: -2.6982329 | J29: -26860 | K29: -3.1447682 | L29: -5.5472822
B31: ATIVO TOTAL | H31: 940245 | I31: 97.75399 | J31: 854117 | K31: 100 | L31: 10.083864
B33: PASSIVO
B34: PASSIVO CIRCULANTE | H34: 261272 | I34: 27.787651 | J34: 243300 | K34: 28.485559 | L34: 7.3867653
D36: Fornecedores | F36: 16 | H36: 35965 | I36: 3.8250669 | J36: 23643 | K36: 2.7681219 | L36: 52.116906
D37: Obrigações trabalhistas e sociais | F37: 17 | H37: 68487 | I37: 7.2839526 | J37: 64466 | K37: 7.5476779 | L37: 6.2373965
D38: Obrigações tributárias | F38: 18 | H38: 17938 | I38: 1.9078006 | J38: 22360 | K38: 2.6179083 | L38: -19.776386
D39: Obrigações com clientes | F39: 19 | H39: 48051 | I39: 5.1104765 | J39: 45745 | K39: 5.3558236 | L39: 5.0409881
D40: Outras obrigações | F40: 20 | H40: 5371 | I40: 0.57123409 | J40: 3711 | K40: 0.4344838 | L40: 44.731878
D41: Previdência privada - NUCLEOS | F41: 21 | H41: 30675 | I41: 3.2624476 | J41: 27845 | K41: 3.260092 | L41: 10.163405
D42: Receita de subvenção a realizar | F42: 22 | H42: 54785 | I42: 5.8266728 | J42: 55530 | K42: 6.5014512 | L42: -1.3416171
B44: PASSIVO NÃO CIRCULANTE | H44: 426061 | I44: 45.313828 | J44: 353818 | K44: 41.425004 | L44: 20.418125
C46: EXIGÍVEL A LONGO PRAZO | H46: 426061 | I46: 45.313828 | J46: 353818 | K46: 41.425004 | L46: 20.418125
D47: Empréstimos - INB | H47: #REF! | I47: #REF! | J47: #REF! | K47: #REF! | L47: #REF!
D48: Obrigações com Clientes | F48: 19 | H48: #REF! | I48: #REF! | J48: #REF! | K48: #REF! | L48: #REF!
D49: Fornecedores | F49: 16 | H49: 0
D50: Obrigações tributárias | F50: 18 | H50: 4786 | J50: 0 | K50: 0 | L50: 0
D51: Previdência privada - NUCLEOS | F51: 21 | H51: 255660 | I51: 27.190785 | J51: 258338 | K51: 30.246207 | L51: -1.0366264
D52: Receita de subvenção a realizar | F52: 22 | H52: 93518 | I52: 9.9461311 | J52: 72645 | K52: 8.505275 | L52: 28.732879
...

Sheet 2. DRE (mil)
B2: NUCLEBRÁS EQUIPAMENTOS PESADOS S.A. - NUCLEP
B3: DEMONSTRAÇÕES FINANCEIRAS EM 31 DE DEZEMBRO DE 2025
B5: DEMONSTRAÇÃO DO RESULTADO DO EXERCÍCIO
J10: Posição em Milhares de Reais
H11: 46022 | J11: 45657
B14: RECEITA OPERACIONAL LÍQUIDA | F14: 25 | H14: 478685 | I14: #REF! | J14: 452518
D15: (-) Custos dos Produtos Vendidos - CPV | F15: 26 | H15: -39796 | I15: #REF! | J15: -33832
B17: LUCRO BRUTO | H17: 438889 | J17: 418685
B19: (-) DESPESAS OPERACIONAIS | H19: -442375 | I19: #REF! | J19: -417683
C20: (-) Despesas operacionais administrativas e comerciais | F20: 27 | H20: -435425 | J20: -412851
C21: (-) Despesas operacionais tributárias | H21: -6950 | J21: -4832
C22: (-) Outras despesas e receitas operacionais | H22: 0 | I22: #REF! | J22: 0
B24: RESULTADO ANTES DAS DESPESAS E RECEITAS FINANCEIRAS | H24: -3486 | I24: #REF! | J24: 1002
C26: (-) Resultado financeiro | F26: 28 | H26: -601 | I26: #REF! | J26: -556
E27: Despesas financeiras | H27: -1940 | I27: #REF! | J27: -2547
E28: Receitas financeiras | H28: 1339 | I28: #REF! | J28: 1991
B30: RESULTADO ANTES DO IR/CSSL | H30: -4087 | I30: #REF! | J30: 446
J31: -87248611
C32: (-) IR sobre lucro líquido | H32: 0 | J32: -299
C33: (-) CS sobre lucro líquido | H33: 0 | J33: -115
J34: -32020.2
B35: LUCRO LÍQUIDO DO EXERCÍCIO | H35: -4087 | I35: #REF! | J35: 32
J37: As notas explicativas são parte integrante das demonstrações financeiras.

Sheet 3. DFC (mil)
D3: NUCLEBRÁS EQUIPAMENTOS PESADOS S.A. - NUCLEP
D4: DEMONSTRAÇÕES FINANCEIRAS EM 31 DE DEZEMBRO DE 2025
D6: DEMONSTRAÇÃO DOS FLUXOS DE CAIXA
H10: Posição em Milhares de Reais
F11: 46022 | H11: 45657
D13: FLUXO DE CAIXA DAS ATIVIDADES OPERACIONAIS | F13: 59306 | H13: 48561
D15: Resultado do exercício | F15: -4087 | H15: 32
D17: Ajustes para conciliar o resultado às disponibilidades
D18: geradas pelas atividades operacionais:
D19: Variações monetárias líquidas | F19: 0 | H19: 0
D20: Ajuste de exercícios anteriores
D21: Adiantamento para futuro aumento de capital | F21: 0 | H21: 0
D22: Ajustes de Exercícios Anteriores | F22: 0 | H22: -11422
D23: Depreciação | F23: 5918 | H23: 7167
D24: Amortizações | F24: 43 | H24: 43
D25: Impairment | F25: 0 | H25: 308
D26: Ganhos por desincorporações de passivos | F26: 0 | H26: 0
D27: Baixa/Ganho no ativo imobilizado | F27: -1433 | H27: 1522
D28: Baixa no ativo intangível | F28: 0 | H28: 0
D29: Realização das subvenções de investimentos | F29: -1490 | H29: -5084
F30: -1049 | H30: -7434
D32: (Aumentos) Reduções do Ativo
D33: Contas a receber | F33: -66996 | H33: -17342
D34: Outros créditos | F34: 2840 | H34: 4251
D35: Despesas a realizar | F35: -21119 | H35: 0
D36: Estoques | F36: 23047 | H36: -25127
D37: Estoques de processo - depreciação | F37: 12 | H37: -65
D38: Depósitos recursais e cauções | F38: 196 | H38: 507
D39: Impostos a recuperar | F39: 6243 | H39: -1339
F40: -55777 | H40: -39115
D42: Aumentos (Reduções) do Passivo
D43: Fornecedores | F43: 12321 | H43: 21220
D44: Obrigações trabalhistas e sociais | F44: 4021 | H44: 9884
D45: Obrigações tributárias | F45: 364 | H45: 11642
D46: Previdência privada | F46: 26066 | H46: 31176
D47: Obrigações com clientes | F47: 2307 | H47: 19072
D48: Subvenções a realizar | F48: 20130 | H48: -2543
D49: Provisões e outras obrigações | F49: 50923 | H49: 4659
F50: 116132 | H50: 95110
D53: FLUXO DE CAIXA DAS ATIVIDADES DE INVESTIMENTOS | F53: -3962 | H53: -7244
...

Sheet 4. DRA (mil)
B3: NUCLEBRÁS EQUIPAMENTOS PESADOS S.A. - NUCLEP
B4: DEMONSTRAÇÕES FINANCEIRAS EM 31 DE DEZEMBRO DE 2025
B6: DEMONSTRAÇÃO DO RESULTADO ABRANGENTE
I10: Posição em Milhares de Reais
G11: 46022 | I11: 45657
B13: LUCRO (PREJUÍZO) DO EXERCÍCIO | G13: -4087 | I13: 32
B15: Outros resultados abrangentes | G15: 1231 | I15: 1231
C17: Realização da reserva de reavaliação | G17: 1231 | I17: 1231
C18: Baixa da reserva de reavaliação | G18: 0 | I18: 0
B20: RESULTADO ABRANGENTE | G20: -2856 | I20: 1263
E23: As notas explicativas são parte integrante das demonstrações contábeis.
R304: 0
R433: 0
D449: Os processos individualizados abaixo somam o valor de R$ 10.440 mil, os quais correspondem a 90% (noventa por cento) do total, R$ 11.545 mil. A rubrica Demais Processos, por sua vez, soma o valor de R$ 1.105 mil, representando 10% (dez por cento) do valor total, conforme segue:
E452: 0001260-21.2012.5.01.0461 | R452: 9155454.8
E453: 0101403-76.2016.5.01.0461 | R453: 491082.02
E454: 0101767-14.2017.5.01.0461 | R454: 413227.86
E455: 0100213-34.2023.5.01.0461 | R455: 157361.2
E456: 0100997-55.2016.5.01.0461 | R456: 123334.53
E457: 0192600-30.2007.5.01.0461 | R457: 100000
R458: 1105094.1
D464: Os processos individualizados abaixo somam o valor de R$ 1.756 mil, os quais correspondem a 79% (setenta e nove por cento) dos R$ 2.226 mil. A rubrica Demais Processos, por sua vez, soma R$ 470 mil representando os 21% (vinte e um por cento), conforme segue:
R470: 2225035.2
A634: 34
A642: 35

Sheet 5. DVA (mil)
B3: NUCLEBRÁS EQUIPAMENTOS PESADOS S.A. - NUCLEP
B4: DEMONSTRAÇÕES FINANCEIRAS EM 31 DE DEZEMBRO DE 2025
B6: DEMONSTRAÇÃO DO VALOR ADICIONADO
I10: Posição em Milhares de Reais
G11: 46022 | I11: 45657
B13: 1. RECEITAS | G13: 38363 | I13: 39689
D14: Receita bruta de vendas de produtos e serviços | G14: 38363 | I14: 39689
D15: Outras receitas por desincorporação de passivo | G15: 0 | I15: 0
B17: 2. INSUMOS PRÓPRIOS E ADQUIRIDOS DE TERCEIROS | G17: -87229 | I17: -145599
D18: (-) Custos dos produtos vendidos | G18: -39796 | I18: -33832
D19: (-) Materiais, energia e serviços de terceiros | G19: -47433 | I19: -111767
B21: 3. VALOR ADICIONADO BRUTO | G21: -48866 | I21: -105910
B23: 4. RETENÇÕES | G23: -5960 | I23: -7518
D24: (-) Depreciação dos bens móveis e imóveis | G24: -5917 | I24: -7167
D25: (-) Amortização de ativos não circulantes | G25: -43 | I25: -43
D26: (-) Redução ao valor recuperável | G26: 0 | I26: -308
B28: 5. VALOR ADICIONADO LÍQUIDO PRODUZIDO PELA ENTIDADE | G28: -54826 | I28: -113428
B30: 6. VALOR ADICIONADO RECEBIDO EM TRANSFERÊNCIA | G30: 451822 | I30: 417404
D31: (-) Recursos orçamentários do Tesouro Nacional | G31: 450483 | I31: 415413
D32: (+) Receita financeira | G32: 1339 | I32: 1991
B34: 7. VALOR ADICIONADO A TRANSFERIR | G34: 396996 | I34: 303977
B36: 8. DISTRIBUIÇÃO DO VALOR ADICIONADO | G36: 396996 | I36: 303977
D37: Pessoal (remuneração e encargos) | G37: 290091 | I37: 249618
D38: Previdência complementar | G38: 42678 | I38: 39357
D39: Provisões (trabalhistas, cíveis e tributárias) | G39: 49263 | I39: 4593
D40: Governo (federal, estadual e municipal) | G40: 17111 | I40: 7830
D41: Juros e atualizações monetárias | G41: 1940 | I41: 2547
D42: Resultado do exercício | G42: -4087 | I42: 32
C425: Os processos individualizados abaixo somam o valor de R$ 10.440 mil, os quais correspondem a 90% (noventa por cento) do total, R$ 11.545 mil. A rubrica Demais Processos, por sua vez, soma o valor de R$ 1.105 mil, representando 10% (dez por cento) do valor total, conforme segue:
D428: 0001260-21.2012.5.01.0461
D429: 0101403-76.2016.5.01.0461
D430: 0101767-14.2017.5.01.0461
D431: 0100213-34.2023.5.01.0461
D432: 0100997-55.2016.5.01.0461
D433: 0192600-30.2007.5.01.0461
C440: Os processos individualizados abaixo somam o valor de R$ 1.756 mil, os quais correspondem a 79% (setenta e nove por cento) dos R$ 2.226 mil. A rubrica Demais Processos, por sua vez, soma R$ 470 mil representando os 21% (vinte e um por cento), conforme segue:
A606: 34
A614: 35

Sheet 6. DMPL (mil)
A2: NUCLEBRÁS EQUIPAMENTOS PESADOS S.A. - NUCLEP
A3: DEMONSTRAÇÕES FINANCEIRAS EM 31 DE DEZEMBRO DE 2025
A5: DEMONSTRAÇÃO DAS MUTAÇÕES DO PATRIMÔNIO LÍQUIDO
I9: Posição em Milhares de Reais
A10: Dezembro 2024 | B10: Nota | C10: Capital social | D10: Reserva de incentivos fiscais | E10: Reserva legal | F10: Reserva de reavaliação | G10: Ajuste de avaliação patrimonial | H10: Prejuízos acumulados | I10: Total
A12: Saldo em 31 de Dezembro de 2023 | C12: 63114 | D12: 0 | E12: 0 | F12: 15736 | G12: 159864 | H12: 18252 | I12: 256966
A14: Realização reserva de reavaliação | C14: 0 | D14: 0 | E14: 0 | F14: -1231 | G14: 0 | H14: 1231 | I14: 0
A15: Ajuste de exercícios anteriores | C15: 0 | D15: 0 | E15: 0 | F15: 0 | G15: 0 | H15: 0 | I15: 0
A16: Destinação para Reserva de Incentivos Fiscais | C16: 0 | D16: 18540 | E16: 0 | F16: 0 | G16: 0 | H16: -18539.51
A17: Destinação para Reserva Legal | C17: 0 | D17: 0 | E17: 975.76347 | F17: 0 | H17: -975.76347 | I17: 0
A18: Resultado do exercício | C18: 0 | D18: 0 | E18: 0 | F18: 0 | H18: 32 | I18: 32
A19: Saldo final em 31 de Dezembro de 2024 | C19: 63114 | D19: 18540 | E19: 976 | F19: 14505 | G19: 159864 | H19: 0 | I19: 256999
A25: Dezembro 2025 | B25: Nota | C25: Capital social | D25: Reserva de incentivos fiscais | E25: Reserva legal | F25: Reserva de reavaliação | G25: Ajuste de avaliação patrimonial | H25: Prejuízos acumulados | I25: Total
A27: Saldo em 31 de Dezembro de 2024 | C27: 63114 | D27: 18540 | E27: 976 | F27: 14505 | G27: 159864 | H27: 0 | I27: 256999
A29: Realização reserva de reavaliação | C29: 0 | F29: -1231.04 | H29: 1231.04 | I29: 0
A30: Ajuste de exercícios anteriores | I30: 0
A31: Baixa de Reserva de incentivos fiscais | C31: 0 | D31: -2856 | H31: 2856 | I31: 0
A32: Resultado do exercício | C32: 0 | H32: -4087 | I32: -4087
A33: Saldo final em 31 de Dezembro de 2025 | C33: 63114 | D33: 15684 | E33: 976 | F33: 13273.96 | G33: 159864 | H33: 0 | I33: 252912
I35: As notas explicativas são parte integrante das demonstrações financeiras
F50: -0.04
H51: 2856
C53: 0 | D53: 0 | E53: 0 | F53: -0.04 | G53: 0 | H53: 0 | I53: 0
A437: Os processos individualizados abaixo somam o valor de R$ 10.440 mil, os quais correspondem a 90% (noventa por cento) do total, R$ 11.545 mil. A rubrica Demais Processos, por sua vez, soma o valor de R$ 1.105 mil, representando 10% (dez por cento) do valor total, conforme segue:
B440: 0001260-21.2012.5.01.0461
B441: 0101403-76.2016.5.01.0461
B442: 0101767-14.2017.5.01.0461
B443: 0100213-34.2023.5.01.0461
B444: 0100997-55.2016.5.01.0461
B445: 0192600-30.2007.5.01.0461
A452: Os processos individualizados abaixo somam o valor de R$ 1.756 mil, os quais correspondem a 79% (setenta e nove por cento) dos R$ 2.226 mil. A rubrica Demais Processos, por sua vez, soma R$ 470 mil representando os 21% (vinte e um por cento), conforme segue:

Sheet Notas Explicativas
B2: NUCLEBRÁS EQUIPAMENTOS PESADOS S.A. - NUCLEP
B3: NOTAS EXPLICATIVAS ÀS DEMONSTRAÇÕES FINANCEIRAS
B4: EM 31 DE DEZEMBRO DE 2025
B5: (Em Milhares de Reais)
B7: 1 - CONTEXTO OPERACIONAL
B8: A Nuclebrás Equipamentos Pesados S/A – NUCLEP, doravante denominada “Nuclep” ou “Companhia”, é uma empresa pública, constituída na forma de sociedade anônima de capital fechado, sob o controle acionário da União, vinculada ao Ministério de Minas e Energia – MME, com prazo de duração indeterminado, regida pelas normas de direito privado em geral e, especificamente, pela Lei nº 6.404, de 15 de dezembro de 1976 (Lei das Sociedades por Ações), pela Lei nº 13.303, de 30 de junho de 2016 (Estatuto Jurídico das Estatais), pelo Decreto nº 8.945, de 27 de dezembro de 2016, e por seu Estatuto Social.
B10: A Companhia atua no setor de indústria de caldeiraria pesada, que tem como objeto social projetar, desenvolver, fabricar e comercializar componentes pesados relativo a usinas nucleares, assim como equipamentos relativos à construção naval e offshore, e a outros projetos.
B12: A sede da Companhia fica localizada no Edifício Londres do Condomínio Le Monde Office, Avenida das Américas, nº 3.500 – Salas 613 e 614, Bloco 01, Barra da Tijuca – Rio de Janeiro – RJ – Cep: 22.640-102.
B14: A unidade industrial fica localizada na Av. Gal. Euclydes de Oliveira Figueiredo, 200 - Brisamar - Itaguaí – RJ – Cep:23.825-410.
B16: A Nuclep é uma empresa dependente, nos termos da Lei Complementar nº 101/2000, pertencente ao Orçamento Fiscal e da Seguridade Social – OFSS, as necessidades de capital de giro vem sendo supridas com os recursos do Tesouro Nacional.
B18: 2 - PREPARAÇÃO E APRESENTAÇÃO DAS DEMONSTRAÇÕES FINANCEIRAS
B20: As demonstrações financeiras foram elaboradas de acordo com Internacional Financial Reporting Standards - IFRS, International Accounting Standards Board - IASB, as práticas contábeis adotadas no Brasil, com base nas disposições contidas na Lei das Sociedades por Ações - Lei 6.404/76 e suas alterações, as normas e pronunciamentos emitidos pelo Conselho Federal de Contabilidade - CFC, Comitê de Pronunciamentos Contábeis - CPC e Comissão de Valores Mobiliários - CVM.
... B39: Para melhor compreensão da base de reconhecimento e mensuração aplicadas na preparação das demonstrações financeiras, as práticas contábeis são apresentadas nas respectivas notas explicativas, que tratam dos temas de suas aplicações.
B41: =CONCATENATE(#REF!," - CAIXA E EQUIVALENTES DE CAIXA") -> #REF!
B42: Corresponde à Conta Única centralizada no Tesouro Nacional, à qual a empresa está vinculada como usuária do SIAFI (Sistema Integrado de Administração Financeira do Governo Federal), o qual são movimentados tanto recursos próprios quanto os recursos provenientes do Tesouro Nacional, a título de subvenções.
B44: LIMITE DE SAQUE COM VINCULAÇÃO DE PAGAMENTO | D44: Dezembro 2025 | F44: Dezembro 2024 | K44: fontes
B45: Pessoal | D45: =20775+1 -> 20776 | F45: 19286 | I45: +1 | K45: 100 | L45: 111110100 | M45: + | N45: 111122001 | O45: + | P45: 111122003 | Q45: 18500.694 | S45: =Q45/$Q$48 -> 0.39756737
B46: Custeio/Investimento – Fonte Tesouro Nacional | D46: =ROUND(#REF!/1000,0) -> #REF! | F46: 499 | K46: garantias | L46: 111310200 | Q46: 441.61497 | S46: =Q46/$Q$48 -> 0.0094900061
B47: Custeio - Fonte Própria | D47: 56204 | F47: 29510 | K47: 105 | L47: 111110100 | M47: + | N47: 111122001 | O47: + | P47: 111122003 | Q47: 27592.431 | S47: =Q47/$Q$48 -> 0.59294262
B48: TOTAL | D48: =SUM(D45:D47) -> #REF! | F48: 49295 | I48: =ROUND(('1. BP (mil)'!H14-D48),0) -> #REF! | J48: =ROUND(('1. BP (mil)'!J14-F48),0) -> 0 | Q48: 46534.741 | S48: =Q48/$Q$48 -> 1 | U48: c.c
K49: Falta completar o texto elaborado pela Rosângela | Q49: 13822 | S49: =Q49*S48/Q48 -> 0.2970254 | U49: 111122003
B50: Em setembro de 2025, a Companhia registrou o ingresso do montante total de R$ 61.507, composto por: (i) R$ 59.652 relativos ao ressarcimento de despesas e custos incorridos, decorrentes do êxito obtido na disputa arbitral movida contra a empresa FLSmidth S.A. (antiga Thyssenkrupp Industrial Solutions Ltda.), no âmbito do Procedimento CAM-CCBC nº 59/2020, referente ao Contrato de Fornecimento e Fabricação de Estrutura Metálica e Componentes Mecânicos para a Empilhadeira e Recuperadora ER-1A – Contrato nº 45005614, no qual o Tribunal Arbitral reconheceu a responsabilidade da FLSmidth pela resolução contratual; (ii) R$ 1.339 provenientes da recuperação de depósitos judiciais; e (iii) R$ 516 correspondentes à devolução da caução prestada em garantia da execução do Contrato nº GAC.T/CT-017/10.
B51: =CONCATENATE(#REF!," - CONTAS A RECEBER") -> #REF!
B52: O contas a receber tem a seguinte composição:
B54: CONTAS A RECEBER | D54: =D44 -> Dezembro 2025 | F54: =F44 -> Dezembro 2024 | I54: 25 | J54: 24 | K54: C.C. - Balancete | Q54: ajuste rosângela
B55: - De clientes (a)
B56: Produtos | D56: =ROUND(#REF!/1000,0)-3693 -> #REF! | F56: =12192+22918 -> 35110 | I56: -3693 | K56: 112210103
B57: Serviços | D57: =ROUND(#REF!/1000,0) -> #REF! | F57: =343+2928 -> 3271 | K57: 112210106
B58: (-) Perdas estimadas em créditos de liquidação duvidosa (b) | D58: =ROUND(-#REF!/1000,0)+3693 -> #REF! | F58: -25846 | I58: +3693 | Q58: =(-11886484.87/1000) -> -11886.485
B59: SUB - TOTAL | D59: =SUM(D56:D58) -> #REF! | F59: =SUM(F56:F58) -> 12535
B60: - Secretaria do Tesouro Nacional ( c )
B61: Subvenções a receber | D61: =ROUND(#REF!/1000,0)-D63 -> #REF! | F61: 27845 | K61: 113812600 (- ) Coparticipação dos empregados ( linha abaixo)
B62: - Dos empregados (d)
B63: Plano médico – coparticipação dos empregados | D63: =ROUND(3119823/1000,0) -> 3120 | F63: -
B64: TOTAL | D64: =D59+D61+D63 -> #REF! | F64: =F59+F61 -> 40380 | I64: =ROUND(('1. BP (mil)'!H15-D64),0) -> #REF! | J64: =ROUND(('1. BP (mil)'!J15-F64),0) -> 0
B66: a) Produtos e Serviços - correspondem aos valores a receber de clientes pela venda de produtos e serviços no decurso normal das atividades da Companhia. As contas a receber são inicialmente reconhecidas pelo valor justo e, subsequentemente, mensuradas pelo custo menos a provisão para perdas com créditos, se necessárias. Os maiores clientes da Nuclep são a Petrobras, Eletronuclear, Marinha do Brasil e Amazul (vide Nota 33).
B67: b) As Perdas Estimadas em Créditos de Liquidação Duvidosa - PECLD são fundamentadas em análise dos créditos, que leva em consideração o histórico e os riscos envolvidos em cada operação, sendo constituída em montante considerado suficiente para cobrir as prováveis perdas na realização dos créditos.
B69: =CONCATENATE("c) Subvenções a Receber – correspondem os valores a receber do tesouro nacional, a título de subvenções para pagamento das dívidas com o Nucleos (Vide Nota ",#REF!,").") -> #REF!
B71: d) Plano de Saúde de Autogestão (coparticipação dos empregados) - refere-se os valores a receber em até 12 meses dos empregados ativos da empresa. Os demais valores a receber estão demonstrados no ativo não circulante, com expectativa superior a 12 meses.
B73: =CONCATENATE(#REF!," - ESTOQUES") -> #REF!
...

Sheet Notas Explicativas (2)
A2: NUCLEBRÁS EQUIPAMENTOS PESADOS S.A. - NUCLEP
A3: NOTAS EXPLICATIVAS ÀS DEMONSTRAÇÕES FINANCEIRAS
A4: EM 31 DE MARÇO DE 2025
A5: (Em Milhares de Reais)
A7: 1 - CONTEXTO OPERACIONAL
A8: A Nuclebrás Equipamentos Pesados S/A – NUCLEP, doravante denominada “Nuclep” ou “Companhia”, é uma empresa pública, constituída na forma de sociedade anônima de capital fechado, sob o controle acionário da União, vinculada ao Ministério de Minas e Energia – MME, com prazo de duração indeterminado, regida pelas normas de direito privado em geral e, especificamente, pela Lei nº 6.404, de 15 de dezembro de 1976 (Lei das Sociedades por Ações), pela Lei nº 13.303, de 30 de junho de 2016 (Estatuto Jurídico das Estatais), pelo Decreto nº 8.945, de 27 de dezembro de 2016, e por seu Estatuto Social.
A10: A Companhia atua no setor de indústria de caldeiraria pesada, que tem como objeto social projetar, desenvolver, fabricar e comercializar componentes pesados relativo a usinas nucleares, assim como equipamentos relativos à construção naval e offshore, e a outros projetos.
A12: A sede da Companhia fica localizada no Edifício Londres do Condomínio Le Monde Office, Avenida das Américas, nº 3.500 – Salas 613 e 614, Bloco 01, Barra da Tijuca – Rio de Janeiro – RJ – Cep: 22.640-102.
A14: A unidade industrial fica localizada na Av. Gal. Euclydes de Oliveira Figueiredo, 200 - Brisamar - Itaguaí – RJ – Cep:23.825-410.
A16: A Nuclep é uma empresa dependente, nos termos da Lei Complementar nº 101/2000, pertencente ao Orçamento Fiscal e da Seguridade Social – OFSS, as necessidades de capital de giro vem sendo supridas com os recursos do Tesouro Nacional.
A18: 2 - PREPARAÇÃO E APRESENTAÇÃO DAS DEMONSTRAÇÕES FINANCEIRAS
A20: As demonstrações financeiras foram elaboradas de acordo com Internacional Financial Reporting Standards - IFRS, International Accounting Standards Board - IASB, as práticas contábeis adotadas no Brasil, com base nas disposições contidas na Lei das Sociedades por Ações - Lei 6.404/76 e suas alterações, as normas e pronunciamentos emitidos pelo Conselho Federal de Contabilidade - CFC, Comitê de Pronunciamentos Contábeis - CPC e Comissão de Valores Mobiliários - CVM.
... A41: Para melhor compreensão da base de reconhecimento e mensuração aplicadas na preparação das demonstrações financeiras, as práticas contábeis são apresentadas nas respectivas notas explicativas, que tratam dos temas de suas aplicações.
A43: =CONCATENATE(#REF!," - CAIXA E EQUIVALENTES DE CAIXA") -> #REF!
A44: Corresponde à Conta Única centralizada no Tesouro Nacional, à qual a empresa está vinculada como usuária do SIAFI (Sistema Integrado de Administração Financeira do Governo Federal), o qual são movimentados tanto recursos próprios e quanto os recursos provenientes do Tesouro Nacional, a título de subvenções.
A46: LIMITE DE SAQUE COM VINCULAÇÃO DE PAGAMENTO | C46: Março 2025 | E46: Dezembro 2024 | I46: fontes
A47: Pessoal | C47: 18500.694 | E47: 19286 | I47: 100 | O47: 18500.694 | Q47: =O47/$O$50 -> 0.39756737
A48: Custeio/Investimento – Fonte Tesouro Nacional | C48: 441.61497 | E48: 499 | I48: garantias | O48: 441.61497 | Q48: =O48/$O$50 -> 0.0094900061
A49: Custeio - Fonte Própria | C49: 27592.431 | E49: 29510 | I49: 105 | O49: 27592.431 | Q49: =O49/$O$50 -> 0.59294262
A50: TOTAL | C50: =SUM(C47:C49) -> 46534.741 | E50: 49295 | G50: =ROUND((#REF!-C50),0) -> #REF! | H50: =ROUND((#REF!-E50),0) -> #REF! | O50: 46534.741 | Q50: =O50/$O$50 -> 1 | S50: c.c
O51: 13822 | Q51: =O51*Q50/O50 -> 0.2970254 | S51: 111122003
A52: Do limite de saque disponível, 30% (trinta por cento) desses recursos estão conciliados com pagamentos a serem realizados no próximo trimestre. Os demais 70 % (setenta e sete por cento) estão vinculados da seguinte forma: [a] Fonte Própria e Custeio Tesouro Nacional: referente aos pagamentos futuros de custeios e investimentos; [b] Pessoal: vinculados a pagamentos de salários, previdência, sentenças e outros.
A54: =CONCATENATE(#REF!," - CONTAS A RECEBER") -> #REF!
A55: As contas a receber tem a seguinte composição:
A57: CONTAS A RECEBER | C57: =C46 -> Março 2025 | E57: =E46 -> Dezembro 2024 | I57: C.C. - Balancete
A58: Produtos (a) | C58: =21972097.09/1000 -> 21972.097 | E58: 12192 | I58: 112210103
A59: Serviços (a) | C59: =555018.96/1000 -> 555.01896 | E59: 343 | I59: 112210106
A60: Subvenções a receber (b) | C60: =24384326.68/1000 -> 24384.327 | E60: 27845 | I60: 113812600
A61: TOTAL | C61: =SUM(C57:C60) -> 46911.443 | E61: =SUM(E57:E60) -> 40380 | G61: =ROUND((#REF!-C61),0) -> #REF! | H61: =ROUND((#REF!-E61),0) -> #REF!
